BEGIN:VCALENDAR
VERSION:2.0
PRODID:-//Mississippi Department of Education - ECPv6.15.20//NONSGML v1.0//EN
CALSCALE:GREGORIAN
METHOD:PUBLISH
X-WR-CALNAME:Mississippi Department of Education
X-ORIGINAL-URL:https://mdek12.org
X-WR-CALDESC:Events for Mississippi Department of Education
REFRESH-INTERVAL;VALUE=DURATION:PT1H
X-Robots-Tag:noindex
X-PUBLISHED-TTL:PT1H
BEGIN:VTIMEZONE
TZID:America/Chicago
BEGIN:DAYLIGHT
TZOFFSETFROM:-0600
TZOFFSETTO:-0500
TZNAME:CDT
DTSTART:20240310T080000
END:DAYLIGHT
BEGIN:STANDARD
TZOFFSETFROM:-0500
TZOFFSETTO:-0600
TZNAME:CST
DTSTART:20241103T070000
END:STANDARD
BEGIN:DAYLIGHT
TZOFFSETFROM:-0600
TZOFFSETTO:-0500
TZNAME:CDT
DTSTART:20250309T080000
END:DAYLIGHT
BEGIN:STANDARD
TZOFFSETFROM:-0500
TZOFFSETTO:-0600
TZNAME:CST
DTSTART:20251102T070000
END:STANDARD
BEGIN:DAYLIGHT
TZOFFSETFROM:-0600
TZOFFSETTO:-0500
TZNAME:CDT
DTSTART:20260308T080000
END:DAYLIGHT
BEGIN:STANDARD
TZOFFSETFROM:-0500
TZOFFSETTO:-0600
TZNAME:CST
DTSTART:20261101T070000
END:STANDARD
END:VTIMEZONE
BEGIN:VEVENT
DTSTART;TZID=America/Chicago:20251204T083000
DTEND;TZID=America/Chicago:20251204T103000
DTSTAMP:20260422T075902
CREATED:20250605T153714Z
LAST-MODIFIED:20250605T153737Z
UID:7303-1764837000-1764844200@mdek12.org
SUMMARY:Commission on School Accreditation
DESCRIPTION:Date: 8:30 a.m.\, December 4\, 2025 \nLocation: Mississippi Department of Education\, 359 North West Street\, Senator Grey Ferris Boardroom\, Jackson\, Mississippi \nA teleconference meeting of the Commission on School Accreditation will be held on Thursday\, December 4 at 8:30 a.m. \nThe public is invited to attend at the above time and location.
URL:https://mdek12.org/event/commission-on-school-accreditation_20251204/
END:VEVENT
BEGIN:VEVENT
DTSTART;TZID=America/Chicago:20251211T160000
DTEND;TZID=America/Chicago:20251211T170000
DTSTAMP:20260422T075902
CREATED:20251204T221022Z
LAST-MODIFIED:20251204T221022Z
UID:7475-1765468800-1765472400@mdek12.org
SUMMARY:Internal Accountability Subcommittee Meeting
DESCRIPTION:Date: 4:00 p.m.\, December 11\, 2025 \nThe members of the Internal Accountability Subcommittee of the Mississippi Board of Education will meet on Thursday\, December 11\, 2025\, at 4:00 p.m.\, via TEAMS. The purpose of this meeting is to approve the Ad-Hoc Screening committee for the Junior SBE Representative\, discuss updates from the Bureaus of Program Evaluation and Internal Audit\, review the final Internal Audit Charter reflecting approved changes\, and discussion of Board Policies (Part 3 Chapter 1 Rule 1.2 and Part 3 Chapter 1 Rule 1.3). \n 
URL:https://mdek12.org/event/internal-accountability-subcommittee-meeting_20251211/
END:VEVENT
BEGIN:VEVENT
DTSTART;TZID=America/Chicago:20251217T090000
DTEND;TZID=America/Chicago:20251217T110000
DTSTAMP:20260422T075902
CREATED:20251212T175701Z
LAST-MODIFIED:20251212T175701Z
UID:7478-1765962000-1765969200@mdek12.org
SUMMARY:Mississippi Board of Education Training and Work Session
DESCRIPTION:Date: 9:00 a.m.\, December 17\, 2025 \nLocation: Central High School Building\, 359 N. West St.\, Jackson\, MS\, 4th floor Board Room \nA training and work session will be held on Wednesday\, December 17\, 2025\, starting at 9:00 a.m. for the Mississippi Board of Education. The purpose of the meeting is to provide the Board with training conducted by the National Association of State Boards of Education (NASBE) and to discuss MDE’s Strategic Plan from Studer Education.
URL:https://mdek12.org/event/mississippi-board-of-education-training-and-work-session_20251217/
END:VEVENT
BEGIN:VEVENT
DTSTART;TZID=America/Chicago:20251218T100000
DTEND;TZID=America/Chicago:20251218T120000
DTSTAMP:20260422T075902
CREATED:20250515T215438Z
LAST-MODIFIED:20251220T130503Z
UID:7238-1766052000-1766059200@mdek12.org
SUMMARY:State Board of Education Meeting
DESCRIPTION:Date: 10 a.m.\, December 18\, 2025 \nLocation: Central High School Building\, 359 N. West St.\, Jackson\, MS\, 4th floor Board Room \nMississippi State Board of Education meeting can be viewed via livestream.
URL:https://mdek12.org/event/state-board-of-education-meeting_20251218/
END:VEVENT
END:VCALENDAR