BEGIN:VCALENDAR
VERSION:2.0
PRODID:-//Mississippi Department of Education - ECPv6.15.20//NONSGML v1.0//EN
CALSCALE:GREGORIAN
METHOD:PUBLISH
X-ORIGINAL-URL:https://mdek12.org
X-WR-CALDESC:Events for Mississippi Department of Education
REFRESH-INTERVAL;VALUE=DURATION:PT1H
X-Robots-Tag:noindex
X-PUBLISHED-TTL:PT1H
BEGIN:VTIMEZONE
TZID:America/Chicago
BEGIN:DAYLIGHT
TZOFFSETFROM:-0600
TZOFFSETTO:-0500
TZNAME:CDT
DTSTART:20240310T080000
END:DAYLIGHT
BEGIN:STANDARD
TZOFFSETFROM:-0500
TZOFFSETTO:-0600
TZNAME:CST
DTSTART:20241103T070000
END:STANDARD
BEGIN:DAYLIGHT
TZOFFSETFROM:-0600
TZOFFSETTO:-0500
TZNAME:CDT
DTSTART:20250309T080000
END:DAYLIGHT
BEGIN:STANDARD
TZOFFSETFROM:-0500
TZOFFSETTO:-0600
TZNAME:CST
DTSTART:20251102T070000
END:STANDARD
BEGIN:DAYLIGHT
TZOFFSETFROM:-0600
TZOFFSETTO:-0500
TZNAME:CDT
DTSTART:20260308T080000
END:DAYLIGHT
BEGIN:STANDARD
TZOFFSETFROM:-0500
TZOFFSETTO:-0600
TZNAME:CST
DTSTART:20261101T070000
END:STANDARD
END:VTIMEZONE
BEGIN:VTIMEZONE
TZID:UTC
BEGIN:STANDARD
TZOFFSETFROM:+0000
TZOFFSETTO:+0000
TZNAME:UTC
DTSTART:20240101T000000
END:STANDARD
END:VTIMEZONE
BEGIN:VEVENT
DTSTART;TZID=America/Chicago:20250709T090000
DTEND;TZID=America/Chicago:20250709T110000
DTSTAMP:20260422T061854
CREATED:20250523T131300Z
LAST-MODIFIED:20250523T163820Z
UID:7272-1752051600-1752058800@mdek12.org
SUMMARY:Data Governance Committee Meeting
DESCRIPTION:Date: 9:00 a.m.\, July 9\, 2025 \nThe public is invited to attend via livestream.
URL:https://mdek12.org/event/data-governance-committee-meeting_20250709/
END:VEVENT
BEGIN:VEVENT
DTSTART;TZID=UTC:20250711T100000
DTEND;TZID=UTC:20250711T120000
DTSTAMP:20260422T061854
CREATED:20240913T234211Z
LAST-MODIFIED:20250512T135531Z
UID:6823-1752228000-1752235200@mdek12.org
SUMMARY:Licensure Commission Meeting
DESCRIPTION:Date: 10:00 a.m.\, July 11\, 2025 \nLocation: Central High School Building\, 359 N. West St.\, Jackson\, MS\, 4th floor Board Room \nThe public is invited to attend at the above time and location. The meeting can also be viewed via livestream.
URL:https://mdek12.org/event/licensure-commission-meeting_20250711/
END:VEVENT
BEGIN:VEVENT
DTSTART;TZID=America/Chicago:20250716T150000
DTEND;TZID=America/Chicago:20250716T170000
DTSTAMP:20260422T061854
CREATED:20250708T212805Z
LAST-MODIFIED:20250708T212832Z
UID:7362-1752678000-1752685200@mdek12.org
SUMMARY:Academic Achievement PreK-12/Early Childhood Subcommittee Meeting
DESCRIPTION:Date: 3:00 p.m.\, July 16\, 2025 \nThe members of the Academic Achievement PreK-12/Early Childhood Subcommittee of the Mississippi Board of Education will meet on Wednesday\, July 16\, 2025\, via Teams at 3:00 p.m. The topics will be an update from the Chief Academic Officer\, the revisions to the Mississippi Early Learning Guidelines\, adoption of the Grant Funded Program Quality Assessment\, approval of revisions to Rule 36.5\, and the Bridge to Career Curriculum Framework.
URL:https://mdek12.org/event/academic-achievement-prek-12-early-childhood-subcommittee-meeting_20250716/
END:VEVENT
BEGIN:VEVENT
DTSTART;TZID=America/Chicago:20250717T090000
DTEND;TZID=America/Chicago:20250717T110000
DTSTAMP:20260422T061854
CREATED:20250708T212358Z
LAST-MODIFIED:20250709T161744Z
UID:7360-1752742800-1752750000@mdek12.org
SUMMARY:Internal Accountability Subcommittee Meeting
DESCRIPTION:Date: 9:00 a.m.\, July 17\, 2025 \nLocation: Central High School Building\, 359 N. West St.\, Jackson\, MS\, Suite 311 \nThe members of the Internal Accountability Subcommittee of the Mississippi Board of Education will meet on Thursday\, July 17\, 2025\, at 9:00 a.m.\, in Suite 311 of the Central High School Building. The topic will be an overview of the Internal Audit Policy Manual by the Internal Audit Director.
URL:https://mdek12.org/event/internal-accountability-subcommittee-meeting_20250717/
END:VEVENT
BEGIN:VEVENT
DTSTART;TZID=America/Chicago:20250717T100000
DTEND;TZID=America/Chicago:20250717T120000
DTSTAMP:20260422T061854
CREATED:20250515T210137Z
LAST-MODIFIED:20250519T202658Z
UID:7224-1752746400-1752753600@mdek12.org
SUMMARY:State Board of Education Meeting
DESCRIPTION:Date: 10 a.m.\, July 17\, 2025 \nLocation: Central High School Building\, 359 N. West St.\, Jackson\, MS\, 4th floor Board Room \nMississippi State Board of Education meeting can be viewed via livestream.
URL:https://mdek12.org/event/state-board-of-education-meeting_20250717/
END:VEVENT
END:VCALENDAR