BEGIN:VCALENDAR
VERSION:2.0
PRODID:-//Mississippi Department of Education - ECPv6.15.20//NONSGML v1.0//EN
CALSCALE:GREGORIAN
METHOD:PUBLISH
X-WR-CALNAME:Mississippi Department of Education
X-ORIGINAL-URL:https://mdek12.org
X-WR-CALDESC:Events for Mississippi Department of Education
REFRESH-INTERVAL;VALUE=DURATION:PT1H
X-Robots-Tag:noindex
X-PUBLISHED-TTL:PT1H
BEGIN:VTIMEZONE
TZID:America/Chicago
BEGIN:DAYLIGHT
TZOFFSETFROM:-0600
TZOFFSETTO:-0500
TZNAME:CDT
DTSTART:20240310T080000
END:DAYLIGHT
BEGIN:STANDARD
TZOFFSETFROM:-0500
TZOFFSETTO:-0600
TZNAME:CST
DTSTART:20241103T070000
END:STANDARD
BEGIN:DAYLIGHT
TZOFFSETFROM:-0600
TZOFFSETTO:-0500
TZNAME:CDT
DTSTART:20250309T080000
END:DAYLIGHT
BEGIN:STANDARD
TZOFFSETFROM:-0500
TZOFFSETTO:-0600
TZNAME:CST
DTSTART:20251102T070000
END:STANDARD
BEGIN:DAYLIGHT
TZOFFSETFROM:-0600
TZOFFSETTO:-0500
TZNAME:CDT
DTSTART:20260308T080000
END:DAYLIGHT
BEGIN:STANDARD
TZOFFSETFROM:-0500
TZOFFSETTO:-0600
TZNAME:CST
DTSTART:20261101T070000
END:STANDARD
END:VTIMEZONE
BEGIN:VEVENT
DTSTART;TZID=America/Chicago:20250603T100000
DTEND;TZID=America/Chicago:20250603T120000
DTSTAMP:20260422T054325
CREATED:20250530T142730Z
LAST-MODIFIED:20250530T142730Z
UID:7296-1748944800-1748952000@mdek12.org
SUMMARY:Commission on Teacher and Administrator Education\, Certification\, and Licensure and Development Commission
DESCRIPTION:Date: 10:00 a.m.\, June 3\, 2025 \nLocation: Central High School Building\, 359 N. West St.\, Jackson\, MS\, Room 101 \nThe members of the Commission on Teacher and Administrator Education\, Certification\, and Licensure and Development Commission of the Mississippi Board of Education will have a special called meeting at 10:00 a.m. on Tuesday\, June 3\, 2025\, in room 101 at the Central High School Building\, 359 North West Street\, Jackson\, Mississippi.
URL:https://mdek12.org/event/commission-on-teacher-and-administrator-education-certification-and-licensure-and-development-commission_20250603/
END:VEVENT
BEGIN:VEVENT
DTSTART;TZID=America/Chicago:20250605T083000
DTEND;TZID=America/Chicago:20250605T103000
DTSTAMP:20260422T054325
CREATED:20240930T233126Z
LAST-MODIFIED:20250127T213547Z
UID:6872-1749112200-1749119400@mdek12.org
SUMMARY:Commission on School Accreditation
DESCRIPTION:Date: 8:30 a.m.\, June 5\, 2025 \nLocation: Mississippi Department of Education\, 359 North West Street\, Senator Grey Ferris Boardroom\, Jackson\, Mississippi \nA teleconference meeting of the Commission on School Accreditation will be held on Thursday\, June 5 at 8:30 a.m. \nThe public is invited to attend at the above time and location.
URL:https://mdek12.org/event/commission-on-school-accreditation_20250605/
END:VEVENT
BEGIN:VEVENT
DTSTART;TZID=America/Chicago:20250618T083000
DTEND;TZID=America/Chicago:20250618T103000
DTSTAMP:20260422T054325
CREATED:20240619T225922Z
LAST-MODIFIED:20250610T131617Z
UID:6639-1750235400-1750242600@mdek12.org
SUMMARY:Special-Called Board Meeting (Student Representative Interviews)
DESCRIPTION:Date: 8:30 a.m.\, June 18\, 2025 \nLocation: Central High School Building\, 359 N. West St.\, Jackson\, MS\, 4th floor Board Room
URL:https://mdek12.org/event/special-called-board-meeting-student-representative-interviews_20250618/
END:VEVENT
BEGIN:VEVENT
DTSTART;TZID=America/Chicago:20250618T130000
DTEND;TZID=America/Chicago:20250618T150000
DTSTAMP:20260422T054325
CREATED:20250515T214106Z
LAST-MODIFIED:20250609T144021Z
UID:7234-1750251600-1750258800@mdek12.org
SUMMARY:Board Strategic Planning Meeting
DESCRIPTION:Date: 1:00 p.m.\, June 18\, 2025 \nLocation: Central High School Building\, 359 N. West St.\, Jackson\, MS\, 4th floor Board Room \nThe Mississippi Board of Education will meet on Wednesday\, June 18\, 2025\, at 1:00 p.m. to discuss the Strategic Planning process with Studer Education. The Mississippi Board of Education will address Strategic Planning according to the following: \nWednesday\, June 18\, 2025\n1:00 p.m.\nBoard Strategic Planning Meeting\nCentral High School Building\n4th Floor Boardroom\n359 North West Street\nJackson\, Mississippi \nThe public is invited to attend at the above location or view live stream.
URL:https://mdek12.org/event/board-strategic-planning-meeting_20250618/
END:VEVENT
BEGIN:VEVENT
DTSTART;TZID=America/Chicago:20250619T090000
DTEND;TZID=America/Chicago:20250619T100000
DTSTAMP:20260422T054325
CREATED:20250515T214852Z
LAST-MODIFIED:20250609T143829Z
UID:7236-1750323600-1750327200@mdek12.org
SUMMARY:Board Budget Meeting
DESCRIPTION:Date: 9:00 a.m.\, June 19\, 2025 \nLocation: Central High School Building\, 359 N. West St.\, Jackson\, MS\, 4th floor Board Room \nThe date and time of the Mississippi Board of Education Budget meeting scheduled for Wednesday\, June 18\, 2025\, at 1:00 p.m. has been changed to Thursday\, June 19\, 2025\, starting at 9:00 a.m. before the regularly scheduled Board meeting at 10:00 a.m. The Mississippi Board of Education will address the Budget materials according to the following: \nThursday\, June 19\, 2025\n9:00 a.m.\nBoard Budget Meeting\nCentral High School Building\n4th Floor Boardroom\n359 North West Street\nJackson\, Mississippi \nThe public is invited to attend at the above location or view live stream.
URL:https://mdek12.org/event/mississippi-board-of-education-budget-meeting_20250619/
END:VEVENT
BEGIN:VEVENT
DTSTART;TZID=America/Chicago:20250619T100000
DTEND;TZID=America/Chicago:20250619T120000
DTSTAMP:20260422T054325
CREATED:20240619T230227Z
LAST-MODIFIED:20250127T213939Z
UID:6641-1750327200-1750334400@mdek12.org
SUMMARY:State Board of Education Meeting
DESCRIPTION:Date: 10 a.m.\, June 19\, 2025 \nLocation: Central High School Building\, 359 N. West St.\, Jackson\, MS\, 4th floor Board Room \nMississippi State Board of Education meeting can be viewed via livestream.
URL:https://mdek12.org/event/state-board-of-education-meeting_20250619/
END:VEVENT
END:VCALENDAR