BEGIN:VCALENDAR
VERSION:2.0
PRODID:-//Mississippi Department of Education - ECPv6.15.20//NONSGML v1.0//EN
CALSCALE:GREGORIAN
METHOD:PUBLISH
X-ORIGINAL-URL:https://mdek12.org
X-WR-CALDESC:Events for Mississippi Department of Education
REFRESH-INTERVAL;VALUE=DURATION:PT1H
X-Robots-Tag:noindex
X-PUBLISHED-TTL:PT1H
BEGIN:VTIMEZONE
TZID:America/Chicago
BEGIN:DAYLIGHT
TZOFFSETFROM:-0600
TZOFFSETTO:-0500
TZNAME:CDT
DTSTART:20240310T080000
END:DAYLIGHT
BEGIN:STANDARD
TZOFFSETFROM:-0500
TZOFFSETTO:-0600
TZNAME:CST
DTSTART:20241103T070000
END:STANDARD
BEGIN:DAYLIGHT
TZOFFSETFROM:-0600
TZOFFSETTO:-0500
TZNAME:CDT
DTSTART:20250309T080000
END:DAYLIGHT
BEGIN:STANDARD
TZOFFSETFROM:-0500
TZOFFSETTO:-0600
TZNAME:CST
DTSTART:20251102T070000
END:STANDARD
BEGIN:DAYLIGHT
TZOFFSETFROM:-0600
TZOFFSETTO:-0500
TZNAME:CDT
DTSTART:20260308T080000
END:DAYLIGHT
BEGIN:STANDARD
TZOFFSETFROM:-0500
TZOFFSETTO:-0600
TZNAME:CST
DTSTART:20261101T070000
END:STANDARD
END:VTIMEZONE
BEGIN:VEVENT
DTSTART;TZID=America/Chicago:20250925T083000
DTEND;TZID=America/Chicago:20250925T103000
DTSTAMP:20260422T061946
CREATED:20250815T152720Z
LAST-MODIFIED:20250815T152804Z
UID:7401-1758789000-1758796200@mdek12.org
SUMMARY:Commission on School Accreditation - Special-Called Teleconference Meeting
DESCRIPTION:Date: 8:30 a.m.\, September 25\, 2025 \nLocation: Mississippi Department of Education\, 359 North West Street—4th Floor\, Senator Grey Ferris Boardroom\, Jackson\, Mississippi \nA special-called teleconference meeting of the Commission on School Accreditation will be held on Thursday\, September 25\, 2025 at 8:30 a.m. \nThe purpose of the meeting is to consider the approval of District/School Performance Classifications for School Year 2025-2026 (based on School Year 2024-2025) \nThe public is invited to attend at the above time and location. \n 
URL:https://mdek12.org/event/commission-on-school-accreditation-special-called-teleconference-meeting_20250925/
END:VEVENT
BEGIN:VEVENT
DTSTART;TZID=America/Chicago:20250925T090000
DTEND;TZID=America/Chicago:20250925T110000
DTSTAMP:20260422T061946
CREATED:20250912T155609Z
LAST-MODIFIED:20250912T155649Z
UID:7423-1758790800-1758798000@mdek12.org
SUMMARY:Internal Audit/Program Evaluation Subcommittee Meeting
DESCRIPTION:Date: 9:00 a.m.\, September 25\, 2025 \nLocation: Central High School Building\, 359 N. West St.\, Jackson\, MS\, Suite 311 \nThe members of the Internal Audit/Program Evaluation Subcommittee of the Mississippi Board of Education will meet on Thursday\, September 25\, 2025\, at 9:00 a.m.\, in Suite 311 of the Central High School Building. The purpose of this meeting is to discuss the approved and proposed plans of the Bureaus of Internal Audit and Program Evaluation.
URL:https://mdek12.org/event/internal-audit-program-evaluation-subcommittee-meeting_20250925/
END:VEVENT
BEGIN:VEVENT
DTSTART;TZID=America/Chicago:20250925T100000
DTEND;TZID=America/Chicago:20250925T120000
DTSTAMP:20260422T061946
CREATED:20250515T210754Z
LAST-MODIFIED:20250821T200426Z
UID:7228-1758794400-1758801600@mdek12.org
SUMMARY:State Board of Education Meeting
DESCRIPTION:Date: 10 a.m.\, September 25\, 2025 \nLocation: Central High School Building\, 359 N. West St.\, Jackson\, MS\, 4th floor Board Room \nThe regularly scheduled Board meeting of the Mississippi Board of Education is scheduled for Thursday\, September 25\, 2025. The Board will address the Board agenda items according to the following: \nThursday\, September 25\, 2025\n10:00 a.m.\nBoard meeting\nCentral High School Building\n4th Floor Boardroom\n359 North West Street\nJackson\, Mississippi \nThe public is invited to attend at the above location or via live stream.
URL:https://mdek12.org/event/state-board-of-education-meeting_20250925/
END:VEVENT
END:VCALENDAR