BEGIN:VCALENDAR
VERSION:2.0
PRODID:-//Mississippi Department of Education - ECPv6.15.20//NONSGML v1.0//EN
CALSCALE:GREGORIAN
METHOD:PUBLISH
X-WR-CALNAME:Mississippi Department of Education
X-ORIGINAL-URL:https://mdek12.org
X-WR-CALDESC:Events for Mississippi Department of Education
REFRESH-INTERVAL;VALUE=DURATION:PT1H
X-Robots-Tag:noindex
X-PUBLISHED-TTL:PT1H
BEGIN:VTIMEZONE
TZID:America/Chicago
BEGIN:DAYLIGHT
TZOFFSETFROM:-0600
TZOFFSETTO:-0500
TZNAME:CDT
DTSTART:20240310T080000
END:DAYLIGHT
BEGIN:STANDARD
TZOFFSETFROM:-0500
TZOFFSETTO:-0600
TZNAME:CST
DTSTART:20241103T070000
END:STANDARD
BEGIN:DAYLIGHT
TZOFFSETFROM:-0600
TZOFFSETTO:-0500
TZNAME:CDT
DTSTART:20250309T080000
END:DAYLIGHT
BEGIN:STANDARD
TZOFFSETFROM:-0500
TZOFFSETTO:-0600
TZNAME:CST
DTSTART:20251102T070000
END:STANDARD
BEGIN:DAYLIGHT
TZOFFSETFROM:-0600
TZOFFSETTO:-0500
TZNAME:CDT
DTSTART:20260308T080000
END:DAYLIGHT
BEGIN:STANDARD
TZOFFSETFROM:-0500
TZOFFSETTO:-0600
TZNAME:CST
DTSTART:20261101T070000
END:STANDARD
END:VTIMEZONE
BEGIN:VEVENT
DTSTART;TZID=America/Chicago:20250716T150000
DTEND;TZID=America/Chicago:20250716T170000
DTSTAMP:20260422T072544
CREATED:20250708T212805Z
LAST-MODIFIED:20250708T212832Z
UID:7362-1752678000-1752685200@mdek12.org
SUMMARY:Academic Achievement PreK-12/Early Childhood Subcommittee Meeting
DESCRIPTION:Date: 3:00 p.m.\, July 16\, 2025 \nThe members of the Academic Achievement PreK-12/Early Childhood Subcommittee of the Mississippi Board of Education will meet on Wednesday\, July 16\, 2025\, via Teams at 3:00 p.m. The topics will be an update from the Chief Academic Officer\, the revisions to the Mississippi Early Learning Guidelines\, adoption of the Grant Funded Program Quality Assessment\, approval of revisions to Rule 36.5\, and the Bridge to Career Curriculum Framework.
URL:https://mdek12.org/event/academic-achievement-prek-12-early-childhood-subcommittee-meeting_20250716/
END:VEVENT
END:VCALENDAR