BEGIN:VCALENDAR
VERSION:2.0
PRODID:-//Mississippi Department of Education - ECPv6.15.20//NONSGML v1.0//EN
CALSCALE:GREGORIAN
METHOD:PUBLISH
X-WR-CALNAME:Mississippi Department of Education
X-ORIGINAL-URL:https://mdek12.org
X-WR-CALDESC:Events for Mississippi Department of Education
REFRESH-INTERVAL;VALUE=DURATION:PT1H
X-Robots-Tag:noindex
X-PUBLISHED-TTL:PT1H
BEGIN:VTIMEZONE
TZID:America/Chicago
BEGIN:DAYLIGHT
TZOFFSETFROM:-0600
TZOFFSETTO:-0500
TZNAME:CDT
DTSTART:20240310T080000
END:DAYLIGHT
BEGIN:STANDARD
TZOFFSETFROM:-0500
TZOFFSETTO:-0600
TZNAME:CST
DTSTART:20241103T070000
END:STANDARD
BEGIN:DAYLIGHT
TZOFFSETFROM:-0600
TZOFFSETTO:-0500
TZNAME:CDT
DTSTART:20250309T080000
END:DAYLIGHT
BEGIN:STANDARD
TZOFFSETFROM:-0500
TZOFFSETTO:-0600
TZNAME:CST
DTSTART:20251102T070000
END:STANDARD
BEGIN:DAYLIGHT
TZOFFSETFROM:-0600
TZOFFSETTO:-0500
TZNAME:CDT
DTSTART:20260308T080000
END:DAYLIGHT
BEGIN:STANDARD
TZOFFSETFROM:-0500
TZOFFSETTO:-0600
TZNAME:CST
DTSTART:20261101T070000
END:STANDARD
END:VTIMEZONE
BEGIN:VEVENT
DTSTART;TZID=America/Chicago:20250521T090000
DTEND;TZID=America/Chicago:20250521T110000
DTSTAMP:20260422T054728
CREATED:20250520T145330Z
LAST-MODIFIED:20250520T145402Z
UID:7269-1747818000-1747825200@mdek12.org
SUMMARY:Commission on Teacher and Administrator Education\, Certification and Licensure and Development Subcommittee Hearing
DESCRIPTION:Date: 9:00 a.m.\, May 21\, 2025 \nLocation: Central High School Building\, 359 N. West St.\, Jackson\, MS\, Room 102 \nA scheduled meeting of the Commission on Teacher and Administrator Education\, Certification and Licensure and Development sub-committee for the Office of Educator Misconduct will be held on May 21st\, 2025. \nThe public is invited to attend at the above time and location.
URL:https://mdek12.org/event/commission-on-teacher-and-administrator-education-certification-and-licensure-and-development-subcommittee-hearing_20250521/
END:VEVENT
END:VCALENDAR