BEGIN:VCALENDAR
VERSION:2.0
PRODID:-//Mississippi Department of Education - ECPv6.15.20//NONSGML v1.0//EN
CALSCALE:GREGORIAN
METHOD:PUBLISH
X-WR-CALNAME:Mississippi Department of Education
X-ORIGINAL-URL:https://mdek12.org
X-WR-CALDESC:Events for Mississippi Department of Education
REFRESH-INTERVAL;VALUE=DURATION:PT1H
X-Robots-Tag:noindex
X-PUBLISHED-TTL:PT1H
BEGIN:VTIMEZONE
TZID:America/Chicago
BEGIN:DAYLIGHT
TZOFFSETFROM:-0600
TZOFFSETTO:-0500
TZNAME:CDT
DTSTART:20240310T080000
END:DAYLIGHT
BEGIN:STANDARD
TZOFFSETFROM:-0500
TZOFFSETTO:-0600
TZNAME:CST
DTSTART:20241103T070000
END:STANDARD
BEGIN:DAYLIGHT
TZOFFSETFROM:-0600
TZOFFSETTO:-0500
TZNAME:CDT
DTSTART:20250309T080000
END:DAYLIGHT
BEGIN:STANDARD
TZOFFSETFROM:-0500
TZOFFSETTO:-0600
TZNAME:CST
DTSTART:20251102T070000
END:STANDARD
BEGIN:DAYLIGHT
TZOFFSETFROM:-0600
TZOFFSETTO:-0500
TZNAME:CDT
DTSTART:20260308T080000
END:DAYLIGHT
BEGIN:STANDARD
TZOFFSETFROM:-0500
TZOFFSETTO:-0600
TZNAME:CST
DTSTART:20261101T070000
END:STANDARD
END:VTIMEZONE
BEGIN:VEVENT
DTSTART;TZID=America/Chicago:20250515T090000
DTEND;TZID=America/Chicago:20250515T110000
DTSTAMP:20260422T054935
CREATED:20250509T184600Z
LAST-MODIFIED:20250509T184636Z
UID:7208-1747299600-1747306800@mdek12.org
SUMMARY:Workforce/Career and Technical Education Subcommittee Meeting
DESCRIPTION:Date: 9:00 a.m.\, May 15\, 2025 \nLocation: Central High School Building\, 359 N. West St.\, Jackson\, MS\, Suite 311 \nThe members of the Workforce/Career and Technical Education Subcommittee of the Mississippi Board of Education will meet on Thursday\, May 15\, 2025\, in Suite 311 at the Mississippi Department of Education\, 359 North West Street\, Jackson\, MS at 9:00 a.m. to discuss the position of Director of Workforce Development\, SWIB Certification List and resubmission\, embedded WBL Data\, and review Emerging CTE Pathway Application.
URL:https://mdek12.org/event/workforce-career-and-technical-education-subcommittee-meeting_20250515/
END:VEVENT
BEGIN:VEVENT
DTSTART;TZID=America/Chicago:20250515T100000
DTEND;TZID=America/Chicago:20250515T120000
DTSTAMP:20260422T054935
CREATED:20240619T225755Z
LAST-MODIFIED:20250127T213348Z
UID:6637-1747303200-1747310400@mdek12.org
SUMMARY:State Board of Education Meeting
DESCRIPTION:Date: 10 a.m.\, May 15\, 2025 \nLocation: Central High School Building\, 359 N. West St.\, Jackson\, MS\, 4th floor Board Room \nMississippi State Board of Education meeting can be viewed via livestream.
URL:https://mdek12.org/event/state-board-of-education-meeting-12/
END:VEVENT
BEGIN:VEVENT
DTSTART;TZID=America/Chicago:20250515T130000
DTEND;TZID=America/Chicago:20250515T150000
DTSTAMP:20260422T054935
CREATED:20250509T154634Z
LAST-MODIFIED:20250512T134041Z
UID:7206-1747314000-1747321200@mdek12.org
SUMMARY:Board Strategic Planning Meeting
DESCRIPTION:Date: 1:00 p.m.\, May 15\, 2025 \nLocation: Central High School Building\, 359 N. West St.\, Jackson\, MS\, 4th floor Board Room \nThe Mississippi Board of Education will meet on Thursday\, May 15\, 2025\, at 1:00 p.m. to discuss the Strategic Planning process with Studer Education. The Mississippi Board of Education will address Strategic Planning according to the following: \nThursday\, May 15\, 2025\n1:00 p.m.\nBoard Strategic Planning Meeting\nCentral High School Building\n4th Floor Boardroom\n359 North West Street\nJackson\, Mississippi \nThe public is invited to attend at the above location or view live stream.
URL:https://mdek12.org/event/board-strategic-planning-meeting_20250515/
END:VEVENT
END:VCALENDAR