BEGIN:VCALENDAR
VERSION:2.0
PRODID:-//Mississippi Department of Education - ECPv6.15.20//NONSGML v1.0//EN
CALSCALE:GREGORIAN
METHOD:PUBLISH
X-WR-CALNAME:Mississippi Department of Education
X-ORIGINAL-URL:https://mdek12.org
X-WR-CALDESC:Events for Mississippi Department of Education
REFRESH-INTERVAL;VALUE=DURATION:PT1H
X-Robots-Tag:noindex
X-PUBLISHED-TTL:PT1H
BEGIN:VTIMEZONE
TZID:UTC
BEGIN:STANDARD
TZOFFSETFROM:+0000
TZOFFSETTO:+0000
TZNAME:UTC
DTSTART:20230101T000000
END:STANDARD
END:VTIMEZONE
BEGIN:VEVENT
DTSTART;TZID=UTC:20241205T083000
DTEND;TZID=UTC:20241205T103000
DTSTAMP:20260422T014606
CREATED:20240930T232622Z
LAST-MODIFIED:20241118T220204Z
UID:6866-1733387400-1733394600@mdek12.org
SUMMARY:Commission on School Accreditation
DESCRIPTION:Date: 8:30 a.m.\, December 5\, 2024 \nLocation: Mississippi Department of Education\, 359 North West Street\, Senator Grey Ferris Boardroom\, Jackson\, Mississippi \nA teleconference meeting of the Commission on School Accreditation will be held on Thursday\, December 5 at 8:30 a.m. The public is invited to attend at the above time and location. \nThe meeting can be viewed via livestream.
URL:https://mdek12.org/event/commission-on-school-accreditation_20241205/
END:VEVENT
END:VCALENDAR