BEGIN:VCALENDAR
VERSION:2.0
PRODID:-//Mississippi Department of Education - ECPv6.15.20//NONSGML v1.0//EN
CALSCALE:GREGORIAN
METHOD:PUBLISH
X-WR-CALNAME:Mississippi Department of Education
X-ORIGINAL-URL:https://mdek12.org
X-WR-CALDESC:Events for Mississippi Department of Education
REFRESH-INTERVAL;VALUE=DURATION:PT1H
X-Robots-Tag:noindex
X-PUBLISHED-TTL:PT1H
BEGIN:VTIMEZONE
TZID:UTC
BEGIN:STANDARD
TZOFFSETFROM:+0000
TZOFFSETTO:+0000
TZNAME:UTC
DTSTART:20230101T000000
END:STANDARD
END:VTIMEZONE
BEGIN:VEVENT
DTSTART;TZID=UTC:20241204T090000
DTEND;TZID=UTC:20241204T110000
DTSTAMP:20260422T014538
CREATED:20241203T022043Z
LAST-MODIFIED:20241203T022241Z
UID:7022-1733302800-1733310000@mdek12.org
SUMMARY:Commission on Teacher and Administrator Education\, Certification and Licensure and Development Subcommittee Hearing
DESCRIPTION:Date: 9:00 a.m.\, December 4\, 2024 \nLocation: Central High School Building\, 359 N. West St.\, Jackson\, MS\, 4th floor Board Room \nA scheduled meeting of the Commission on Teacher and Administrator Education\, Certification and Licensure and Development sub-committee for the Office of Educator Misconduct will be held on December 4\, 2024. \nThe public is invited to attend at the above time and location.
URL:https://mdek12.org/event/commission-on-teacher-and-administrator-education-certification-and-licensure-and-development-subcommittee-hearing_20241204/
END:VEVENT
END:VCALENDAR