BEGIN:VCALENDAR
VERSION:2.0
PRODID:-//Mississippi Department of Education - ECPv6.15.20//NONSGML v1.0//EN
CALSCALE:GREGORIAN
METHOD:PUBLISH
X-ORIGINAL-URL:https://mdek12.org
X-WR-CALDESC:Events for Mississippi Department of Education
REFRESH-INTERVAL;VALUE=DURATION:PT1H
X-Robots-Tag:noindex
X-PUBLISHED-TTL:PT1H
BEGIN:VTIMEZONE
TZID:UTC
BEGIN:STANDARD
TZOFFSETFROM:+0000
TZOFFSETTO:+0000
TZNAME:UTC
DTSTART:20230101T000000
END:STANDARD
END:VTIMEZONE
BEGIN:VEVENT
DTSTART;TZID=UTC:20240718T090000
DTEND;TZID=UTC:20240718T100000
DTSTAMP:20260422T061837
CREATED:20240717T034430Z
LAST-MODIFIED:20240717T034430Z
UID:6690-1721293200-1721296800@mdek12.org
SUMMARY:Workforce/Career and Technical Education Subcommittee Meeting
DESCRIPTION:Date: 9:00 a.m.\, July 18\, 2024 \nLocation: Central High School Building\, 359 North West Street\, Jackson\, Mississippi\, Suite 212 \nThe members of the Workforce/Career and Technical Education Subcommittee of the Mississippi Board of Education will meet on Thursday\, July 18\, 2024\, in Suite 212 at the Mississippi Department of Education\, 359 North West Street\, Jackson\, MS at 9:00 a.m. to discuss MS Perkins State Plan Update\, National Certification Grant and ACT WorkKeys Update\, CTE Enrollment Study\, CTE Secondary State Funding Update\, and SWIB Board List of Recommendations.
URL:https://mdek12.org/event/workforce-career-and-technical-education-subcommittee-meeting/
END:VEVENT
BEGIN:VEVENT
DTSTART;TZID=UTC:20240718T100000
DTEND;TZID=UTC:20240718T120000
DTSTAMP:20260422T061837
CREATED:20240619T223714Z
LAST-MODIFIED:20240619T223714Z
UID:6611-1721296800-1721304000@mdek12.org
SUMMARY:State Board of Education Meeting
DESCRIPTION:Date: 10 a.m.\, July 18\, 2024 \nLocation: Central High School Building\, 359 N. West St.\, Jackson\, MS\, 4th floor Board Room \nMississippi State Board of Education meeting can be viewed via livestream.
URL:https://mdek12.org/event/state-board-of-education-meeting/
END:VEVENT
END:VCALENDAR