BEGIN:VCALENDAR
VERSION:2.0
PRODID:-//Mississippi Department of Education - ECPv6.15.20//NONSGML v1.0//EN
CALSCALE:GREGORIAN
METHOD:PUBLISH
X-ORIGINAL-URL:https://mdek12.org
X-WR-CALDESC:Events for Mississippi Department of Education
REFRESH-INTERVAL;VALUE=DURATION:PT1H
X-Robots-Tag:noindex
X-PUBLISHED-TTL:PT1H
BEGIN:VTIMEZONE
TZID:UTC
BEGIN:STANDARD
TZOFFSETFROM:+0000
TZOFFSETTO:+0000
TZNAME:UTC
DTSTART:20230101T000000
END:STANDARD
END:VTIMEZONE
BEGIN:VEVENT
DTSTART;TZID=UTC:20240620T090000
DTEND;TZID=UTC:20240620T110000
DTSTAMP:20260422T061856
CREATED:20240619T222453Z
LAST-MODIFIED:20240619T223040Z
UID:6601-1718874000-1718881200@mdek12.org
SUMMARY:Internal Accountability Subcommittee Meeting
DESCRIPTION:Date: 9:00 a.m.\, June 20\, 2024 \nLocation: Central High School Building\, 359 North West Street\, Jackson\, Mississippi\, Room 311 \nA regularly scheduled meeting of the Internal Accountability Subcommittee of the Mississippi Board of Education will be held at 9:00 a.m. on Thursday\, June 20\, 2024\, in Room 311 at the Central High School Building\, 359 North West Street\, Jackson\, Mississippi.
URL:https://mdek12.org/event/internal-accountability-subcommittee-meeting/
END:VEVENT
BEGIN:VEVENT
DTSTART;TZID=UTC:20240620T100000
DTEND;TZID=UTC:20240620T140000
DTSTAMP:20260422T061856
CREATED:20240517T212413Z
LAST-MODIFIED:20240517T212413Z
UID:6555-1718877600-1718892000@mdek12.org
SUMMARY:State Board of Education Meeting
DESCRIPTION:Date: 10 a.m.\, June 20\, 2024 \nLocation: Central High School Building\, 359 N. West St.\, Jackson\, MS\, 4th floor Board Room \nMississippi State Board of Education meeting can be viewed via livestream.
URL:https://mdek12.org/event/state-board-of-education-meeting-2/
END:VEVENT
END:VCALENDAR